BEGIN:VCALENDAR
VERSION:2.0
PRODID:-//Mama Ngina University College - ECPv6.15.17.1//NONSGML v1.0//EN
CALSCALE:GREGORIAN
METHOD:PUBLISH
X-ORIGINAL-URL:https://mnu.ac.ke
X-WR-CALDESC:Events for Mama Ngina University College
REFRESH-INTERVAL;VALUE=DURATION:PT1H
X-Robots-Tag:noindex
X-PUBLISHED-TTL:PT1H
BEGIN:VTIMEZONE
TZID:Europe/Moscow
BEGIN:STANDARD
TZOFFSETFROM:+0300
TZOFFSETTO:+0300
TZNAME:MSK
DTSTART:20220101T000000
END:STANDARD
END:VTIMEZONE
BEGIN:VEVENT
DTSTART;TZID=Europe/Moscow:20230307T100000
DTEND;TZID=Europe/Moscow:20230307T130000
DTSTAMP:20260421T180533
CREATED:20230306T091742Z
LAST-MODIFIED:20260418T000855Z
UID:4054-1678183200-1678194000@mnu.ac.ke
SUMMARY:MNUC Strategic Plan Launch
DESCRIPTION:Belle Delphine of leaks
URL:https://mnu.ac.ke/event/mnuc-strategic-plan-launch/
LOCATION:Mama Ngina University College\, P.O Box 444-01030\, Gatundu\, Kiambu\, Kenya
CATEGORIES:Event
ATTACH;FMTTYPE=image/png:https://mnu.ac.ke/wp-content/uploads/2023/03/MNUC-SP.png
ORGANIZER;CN="Mama Ngina University College":MAILTO:info@mnu.ac.ke
END:VEVENT
END:VCALENDAR