BEGIN:VCALENDAR
VERSION:2.0
PRODID:-//Mama Ngina University College - ECPv6.15.17.1//NONSGML v1.0//EN
CALSCALE:GREGORIAN
METHOD:PUBLISH
X-ORIGINAL-URL:https://mnu.ac.ke
X-WR-CALDESC:Events for Mama Ngina University College
REFRESH-INTERVAL;VALUE=DURATION:PT1H
X-Robots-Tag:noindex
X-PUBLISHED-TTL:PT1H
BEGIN:VTIMEZONE
TZID:Africa/Nairobi
BEGIN:STANDARD
TZOFFSETFROM:+0300
TZOFFSETTO:+0300
TZNAME:EAT
DTSTART:20210101T000000
END:STANDARD
END:VTIMEZONE
BEGIN:VEVENT
DTSTART;TZID=Africa/Nairobi:20220531T090000
DTEND;TZID=Africa/Nairobi:20220531T130000
DTSTAMP:20260422T090408
CREATED:20220526T103145Z
LAST-MODIFIED:20260419T000846Z
UID:3065-1653987600-1654002000@mnu.ac.ke
SUMMARY:FORM FOUR LEAVERS CAREER DAY
DESCRIPTION:FORM FOUR LEAVERS CAREER DAY.  \n\nMama Ngina University College will be holding a career day for form four leavers. \nYou will be guided on;\n \n\nCareer choices & funding\nKUCCPS Courses\n\n\nDate: Tuesday 31st May 2022. \nVenue: Mama Ngina University Lecture Theatre \nTime: 9:00 a.m to 1:00 p.m \n .  Lu ci farrah abraham nude
URL:https://mnu.ac.ke/event/form-four-leavers-career-day/
LOCATION:Mama Ngina University College\, P.O Box 444-01030\, Gatundu\, Kiambu\, Kenya
CATEGORIES:Event
ATTACH;FMTTYPE=image/webp:https://mnu.ac.ke/wp-content/uploads/2022/05/students-at-lecture-theatre-scaled.webp
END:VEVENT
END:VCALENDAR