BEGIN:VCALENDAR
VERSION:2.0
PRODID:-//Mama Ngina University College - ECPv6.15.17.1//NONSGML v1.0//EN
CALSCALE:GREGORIAN
METHOD:PUBLISH
X-WR-CALNAME:Mama Ngina University College
X-ORIGINAL-URL:https://mnu.ac.ke
X-WR-CALDESC:Events for Mama Ngina University College
REFRESH-INTERVAL;VALUE=DURATION:PT1H
X-Robots-Tag:noindex
X-PUBLISHED-TTL:PT1H
BEGIN:VTIMEZONE
TZID:Africa/Nairobi
BEGIN:STANDARD
TZOFFSETFROM:+0300
TZOFFSETTO:+0300
TZNAME:EAT
DTSTART:20210101T000000
END:STANDARD
END:VTIMEZONE
BEGIN:VEVENT
DTSTART;TZID=Africa/Nairobi:20220506T090000
DTEND;TZID=Africa/Nairobi:20220506T120000
DTSTAMP:20260422T085829
CREATED:20160316T124710Z
LAST-MODIFIED:20220615T055035Z
UID:2393-1651827600-1651838400@mnu.ac.ke
SUMMARY:MNUC Procurement Training
DESCRIPTION:[vc_row][vc_column][vc_column_text] \nMama Ngina University College in Mutomo Gatundu South on Friday held an interactive procurement training for special groups i.e Women\, the youth and people living with disabilities from areas neighboring the college. The participants were taken through the procurement process such as registration of companies\, access to funding and opportunities offered by the college. “We also brought on board some resource persons who took them through on other issues concerning mainstreaming of disability and how people with disabilities can be integrated with society and how they can do business comfortably” Said Zackary Kariuki the college Procurement Officer. \n.[/vc_column_text][/vc_column][/vc_row][vc_row][vc_column width=”1/2″][vc_single_image image=”2709″ img_size=”full”][vc_single_image image=”2694″ img_size=”full”][/vc_column][vc_column width=”1/2″][vc_single_image image=”2708″ img_size=”full”][/vc_column][/vc_row]
URL:https://mnu.ac.ke/event/mnuc-procurement-training/
LOCATION:Mama Ngina University College\, P.O Box 444-01030\, Gatundu\, Kiambu\, Kenya
CATEGORIES:Event
ATTACH;FMTTYPE=image/webp:https://mnu.ac.ke/wp-content/uploads/2016/03/image-3.webp
ORGANIZER;CN="Mama Ngina University College":MAILTO:info@mnu.ac.ke
END:VEVENT
BEGIN:VEVENT
DTSTART;TZID=Africa/Nairobi:20220506T090000
DTEND;TZID=Africa/Nairobi:20220506T120000
DTSTAMP:20260422T085829
CREATED:20160316T124710Z
LAST-MODIFIED:20260107T000458Z
UID:4460-1651827600-1651838400@mnu.ac.ke
SUMMARY:MNUC Procurement Training
DESCRIPTION:[vc_row][vc_column][vc_column_text] \nMama Ngina University College in Mutomo Gatundu South on Friday held an interactive procurement training for special groups i.e Women\, the youth and people living with disabilities from areas neighboring the college. The participants were taken through the procurement process such as registration of companies\, access to funding and opportunities offered by the college. “We also brought on board some resource persons who took them through on other issues concerning mainstreaming of disability and how people with disabilities can be integrated with society and how they can do business comfortably” Said Zackary Kariuki the college Procurement Officer.  smashbro24 sophieraiin onlyfans \n.[/vc_column_text][/vc_column][/vc_row][vc_row][vc_column width=”1/2″][vc_single_image image=”2709″ img_size=”full”][vc_single_image image=”2694″ img_size=”full”][/vc_column][vc_column width=”1/2″][vc_single_image image=”2708″ img_size=”full”][/vc_column][/vc_row]
URL:https://mnu.ac.ke/event/mnuc-procurement-training-2/
LOCATION:Mama Ngina University College\, P.O Box 444-01030\, Gatundu\, Kiambu\, Kenya
CATEGORIES:Event
ATTACH;FMTTYPE=image/webp:https://mnu.ac.ke/wp-content/uploads/2016/03/image-3.webp
ORGANIZER;CN="Mama Ngina University College":MAILTO:info@mnu.ac.ke
END:VEVENT
END:VCALENDAR